Package: OLINgui Version: 1.80.0 Command: /Library/Frameworks/R.framework/Resources/bin/R CMD build --keep-empty-dirs --no-resave-data OLINgui StartedAt: 2025-01-30 21:30:43 -0500 (Thu, 30 Jan 2025) EndedAt: 2025-01-30 21:31:08 -0500 (Thu, 30 Jan 2025) EllapsedTime: 25.8 seconds RetCode: 0 Status: OK PackageFile: OLINgui_1.80.0.tar.gz PackageFileSize: 374.4 KiB