Package: OLINgui Version: 1.80.0 Command: rm -rf OLINgui.buildbin-libdir && mkdir OLINgui.buildbin-libdir && F:\biocbuild\bbs-3.20-bioc\R\bin\R.exe CMD INSTALL --build --library=OLINgui.buildbin-libdir OLINgui_1.80.0.tar.gz StartedAt: 2025-02-04 09:05:39 -0500 (Tue, 04 Feb 2025) EndedAt: 2025-02-04 09:05:51 -0500 (Tue, 04 Feb 2025) EllapsedTime: 12.1 seconds RetCode: 0 Status: OK PackageFile: OLINgui_1.80.0.zip PackageFileSize: 225.7 KiB