Package: OPWeight Version: 1.28.0 Command: /Library/Frameworks/R.framework/Resources/bin/R CMD INSTALL OPWeight StartedAt: 2025-02-03 15:38:37 -0500 (Mon, 03 Feb 2025) EndedAt: 2025-02-03 15:38:40 -0500 (Mon, 03 Feb 2025) EllapsedTime: 3.3 seconds RetCode: 0 Status: OK