Package: OPWeight Version: 1.28.0 Command: /Library/Frameworks/R.framework/Resources/bin/R CMD build --keep-empty-dirs --no-resave-data OPWeight StartedAt: 2025-02-03 21:01:54 -0500 (Mon, 03 Feb 2025) EndedAt: 2025-02-03 21:07:27 -0500 (Mon, 03 Feb 2025) EllapsedTime: 332.6 seconds RetCode: 0 Status: OK PackageFile: OPWeight_1.28.0.tar.gz PackageFileSize: 489 KiB