Package: OPWeight Version: 1.28.0 Command: /home/biocbuild/bbs-3.20-bioc/R/bin/R CMD INSTALL OPWeight StartedAt: 2025-02-10 15:22:35 -0500 (Mon, 10 Feb 2025) EndedAt: 2025-02-10 15:22:39 -0500 (Mon, 10 Feb 2025) EllapsedTime: 3.9 seconds RetCode: 0 Status: OK