Package: OPWeight Version: 1.28.0 Command: rm -rf OPWeight.buildbin-libdir && mkdir OPWeight.buildbin-libdir && F:\biocbuild\bbs-3.20-bioc\R\bin\R.exe CMD INSTALL --build --library=OPWeight.buildbin-libdir OPWeight_1.28.0.tar.gz StartedAt: 2025-02-11 09:04:30 -0500 (Tue, 11 Feb 2025) EndedAt: 2025-02-11 09:04:40 -0500 (Tue, 11 Feb 2025) EllapsedTime: 10.5 seconds RetCode: 0 Status: OK PackageFile: OPWeight_1.28.0.zip PackageFileSize: 355.5 KiB