Package: OPWeight Version: 1.28.0 Command: /home/biocbuild/R/R/bin/R CMD check --install=check:OPWeight.install-out.txt --library=/home/biocbuild/R/R/site-library --no-vignettes --timings OPWeight_1.28.0.tar.gz StartedAt: 2025-02-04 09:35:27 -0000 (Tue, 04 Feb 2025) EndedAt: 2025-02-04 09:36:22 -0000 (Tue, 04 Feb 2025) EllapsedTime: 55.1 seconds RetCode: 0 Status: OK CheckDir: OPWeight.Rcheck Warnings: 0