Package: OTUbase Version: 1.56.0 Command: /Library/Frameworks/R.framework/Resources/bin/R CMD build --keep-empty-dirs --no-resave-data OTUbase StartedAt: 2025-02-11 05:07:07 -0500 (Tue, 11 Feb 2025) EndedAt: 2025-02-11 05:08:03 -0500 (Tue, 11 Feb 2025) EllapsedTime: 56.5 seconds RetCode: 0 Status: OK PackageFile: OTUbase_1.56.0.tar.gz PackageFileSize: 179 KiB