Package: OTUbase Version: 1.56.0 Command: /Library/Frameworks/R.framework/Resources/bin/R CMD build --keep-empty-dirs --no-resave-data OTUbase StartedAt: 2025-02-03 21:03:40 -0500 (Mon, 03 Feb 2025) EndedAt: 2025-02-03 21:06:35 -0500 (Mon, 03 Feb 2025) EllapsedTime: 175.7 seconds RetCode: 0 Status: OK PackageFile: OTUbase_1.56.0.tar.gz PackageFileSize: 179 KiB