Package: OTUbase Version: 1.56.0 Command: chmod a+r OTUbase -R && F:\biocbuild\bbs-3.20-bioc\R\bin\R.exe CMD build --keep-empty-dirs --no-resave-data OTUbase StartedAt: 2025-01-30 20:44:39 -0500 (Thu, 30 Jan 2025) EndedAt: 2025-01-30 20:45:44 -0500 (Thu, 30 Jan 2025) EllapsedTime: 65.3 seconds RetCode: 0 Status: OK PackageFile: OTUbase_1.56.0.tar.gz PackageFileSize: 178.7 KiB