Package: OTUbase Version: 1.56.0 Command: F:\biocbuild\bbs-3.20-bioc\R\bin\R.exe CMD check --no-multiarch --install=check:OTUbase.install-out.txt --library=F:\biocbuild\bbs-3.20-bioc\R\library --no-vignettes --timings OTUbase_1.56.0.tar.gz StartedAt: 2025-01-31 04:49:40 -0500 (Fri, 31 Jan 2025) EndedAt: 2025-01-31 04:54:34 -0500 (Fri, 31 Jan 2025) EllapsedTime: 294.3 seconds RetCode: 0 Status: OK CheckDir: OTUbase.Rcheck Warnings: 0