Package: OTUbase Version: 1.56.0 Command: /home/biocbuild/R/R/bin/R CMD check --install=check:OTUbase.install-out.txt --library=/home/biocbuild/R/R/site-library --no-vignettes --timings OTUbase_1.56.0.tar.gz StartedAt: 2025-01-31 08:55:12 -0000 (Fri, 31 Jan 2025) EndedAt: 2025-01-31 09:00:22 -0000 (Fri, 31 Jan 2025) EllapsedTime: 310.2 seconds RetCode: 0 Status: OK CheckDir: OTUbase.Rcheck Warnings: 0