Package: OUTRIDER Version: 1.24.0 Command: rm -rf OUTRIDER.buildbin-libdir && mkdir OUTRIDER.buildbin-libdir && /Users/biocbuild/BBS/utils/build-universal.sh OUTRIDER_1.24.0.tar.gz /Library/Frameworks/R.framework/Resources/bin/R OUTRIDER.buildbin-libdir StartedAt: 2025-02-05 17:03:19 -0500 (Wed, 05 Feb 2025) EndedAt: 2025-02-05 17:04:29 -0500 (Wed, 05 Feb 2025) EllapsedTime: 70.3 seconds RetCode: 0 Status: OK PackageFile: OUTRIDER_1.24.0.tgz PackageFileSize: 2.572 MiB