Package: OUTRIDER Version: 1.24.0 Command: /Library/Frameworks/R.framework/Resources/bin/R CMD check --install=check:OUTRIDER.install-out.txt --library=/Library/Frameworks/R.framework/Resources/library --no-vignettes --timings OUTRIDER_1.24.0.tar.gz StartedAt: 2025-02-01 04:02:00 -0500 (Sat, 01 Feb 2025) EndedAt: 2025-02-01 04:10:08 -0500 (Sat, 01 Feb 2025) EllapsedTime: 487.2 seconds RetCode: 0 Status: OK CheckDir: OUTRIDER.Rcheck Warnings: 0