Package: OUTRIDER Version: 1.24.0 Command: rm -rf OUTRIDER.buildbin-libdir && mkdir OUTRIDER.buildbin-libdir && /Users/biocbuild/BBS/utils/build-universal.sh OUTRIDER_1.24.0.tar.gz /Library/Frameworks/R.framework/Resources/bin/R OUTRIDER.buildbin-libdir StartedAt: 2025-02-04 13:42:58 -0500 (Tue, 04 Feb 2025) EndedAt: 2025-02-04 13:46:31 -0500 (Tue, 04 Feb 2025) EllapsedTime: 212.4 seconds RetCode: 0 Status: OK PackageFile: OUTRIDER_1.24.0.tgz PackageFileSize: 2.578 MiB