Package: OUTRIDER Version: 1.24.0 Command: /Library/Frameworks/R.framework/Resources/bin/R CMD INSTALL OUTRIDER StartedAt: 2025-02-03 16:34:02 -0500 (Mon, 03 Feb 2025) EndedAt: 2025-02-03 16:36:05 -0500 (Mon, 03 Feb 2025) EllapsedTime: 123.1 seconds RetCode: 0 Status: OK