Package: OUTRIDER Version: 1.24.0 Command: /home/biocbuild/bbs-3.20-bioc/R/bin/R CMD INSTALL OUTRIDER StartedAt: 2025-01-30 15:53:02 -0500 (Thu, 30 Jan 2025) EndedAt: 2025-01-30 15:54:03 -0500 (Thu, 30 Jan 2025) EllapsedTime: 61.6 seconds RetCode: 0 Status: OK