Package: OUTRIDER Version: 1.24.0 Command: chmod a+r OUTRIDER -R && F:\biocbuild\bbs-3.20-bioc\R\bin\R.exe CMD build --keep-empty-dirs --no-resave-data OUTRIDER StartedAt: 2025-01-30 20:44:55 -0500 (Thu, 30 Jan 2025) EndedAt: 2025-01-30 21:00:17 -0500 (Thu, 30 Jan 2025) EllapsedTime: 921.8 seconds RetCode: 0 Status: OK PackageFile: OUTRIDER_1.24.0.tar.gz PackageFileSize: 1.724 MiB