Package: OUTRIDER Version: 1.24.0 Command: F:\biocbuild\bbs-3.20-bioc\R\bin\R.exe CMD INSTALL OUTRIDER StartedAt: 2025-01-30 16:44:33 -0500 (Thu, 30 Jan 2025) EndedAt: 2025-01-30 16:46:11 -0500 (Thu, 30 Jan 2025) EllapsedTime: 97.9 seconds RetCode: 0 Status: OK