Package: OmaDB Version: 2.22.0 Command: /Library/Frameworks/R.framework/Resources/bin/R CMD build --keep-empty-dirs --no-resave-data OmaDB StartedAt: 2025-02-10 20:59:51 -0500 (Mon, 10 Feb 2025) EndedAt: 2025-02-10 21:00:41 -0500 (Mon, 10 Feb 2025) EllapsedTime: 50.7 seconds RetCode: 0 Status: OK PackageFile: OmaDB_2.22.0.tar.gz PackageFileSize: 98.17 KiB