Package: OmaDB Version: 2.22.0 Command: /Library/Frameworks/R.framework/Resources/bin/R CMD INSTALL OmaDB StartedAt: 2025-02-10 16:31:52 -0500 (Mon, 10 Feb 2025) EndedAt: 2025-02-10 16:32:28 -0500 (Mon, 10 Feb 2025) EllapsedTime: 35.7 seconds RetCode: 0 Status: OK