Package: OmaDB Version: 2.22.0 Command: F:\biocbuild\bbs-3.20-bioc\R\bin\R.exe CMD INSTALL OmaDB StartedAt: 2025-02-10 16:58:33 -0500 (Mon, 10 Feb 2025) EndedAt: 2025-02-10 16:59:15 -0500 (Mon, 10 Feb 2025) EllapsedTime: 42.5 seconds RetCode: 0 Status: OK