Package: OmaDB Version: 2.22.0 Command: /home/biocbuild/R/R/bin/R CMD build --keep-empty-dirs --no-resave-data OmaDB StartedAt: 2025-02-11 01:16:06 -0000 (Tue, 11 Feb 2025) EndedAt: 2025-02-11 01:16:41 -0000 (Tue, 11 Feb 2025) EllapsedTime: 35.0 seconds RetCode: 0 Status: OK PackageFile: OmaDB_2.22.0.tar.gz PackageFileSize: 98.82 KiB