Package: Omixer Version: 1.16.0 Command: /Library/Frameworks/R.framework/Resources/bin/R CMD INSTALL Omixer StartedAt: 2025-02-03 15:37:09 -0500 (Mon, 03 Feb 2025) EndedAt: 2025-02-03 15:37:12 -0500 (Mon, 03 Feb 2025) EllapsedTime: 3.1 seconds RetCode: 0 Status: OK