Package: Omixer Version: 1.16.0 Command: chmod a+r Omixer -R && F:\biocbuild\bbs-3.20-bioc\R\bin\R.exe CMD build --keep-empty-dirs --no-resave-data Omixer StartedAt: 2025-02-03 20:53:49 -0500 (Mon, 03 Feb 2025) EndedAt: 2025-02-03 20:55:38 -0500 (Mon, 03 Feb 2025) EllapsedTime: 109.6 seconds RetCode: 0 Status: OK PackageFile: Omixer_1.16.0.tar.gz PackageFileSize: 1.277 MiB