Package: Omixer Version: 1.16.0 Command: /home/biocbuild/R/R/bin/R CMD INSTALL Omixer StartedAt: 2025-02-03 20:29:21 -0000 (Mon, 03 Feb 2025) EndedAt: 2025-02-03 20:29:27 -0000 (Mon, 03 Feb 2025) EllapsedTime: 5.4 seconds RetCode: 0 Status: OK