Package: OncoScore Version: 1.34.0 Command: /home/biocbuild/R/R/bin/R CMD build --keep-empty-dirs --no-resave-data OncoScore StartedAt: 2025-02-11 01:19:18 -0000 (Tue, 11 Feb 2025) EndedAt: 2025-02-11 01:21:21 -0000 (Tue, 11 Feb 2025) EllapsedTime: 122.1 seconds RetCode: 0 Status: OK PackageFile: OncoScore_1.34.0.tar.gz PackageFileSize: 835.2 KiB