Package: OrderedList Version: 1.78.0 Command: rm -rf OrderedList.buildbin-libdir && mkdir OrderedList.buildbin-libdir && /Users/biocbuild/BBS/utils/build-universal.sh OrderedList_1.78.0.tar.gz /Library/Frameworks/R.framework/Resources/bin/R OrderedList.buildbin-libdir StartedAt: 2025-02-01 16:06:42 -0500 (Sat, 01 Feb 2025) EndedAt: 2025-02-01 16:06:48 -0500 (Sat, 01 Feb 2025) EllapsedTime: 5.8 seconds RetCode: 0 Status: OK PackageFile: OrderedList_1.78.0.tgz PackageFileSize: 1.11 MiB