Package: OrderedList Version: 1.78.0 Command: /Library/Frameworks/R.framework/Resources/bin/R CMD build --keep-empty-dirs --no-resave-data OrderedList StartedAt: 2025-02-04 05:05:22 -0500 (Tue, 04 Feb 2025) EndedAt: 2025-02-04 05:07:10 -0500 (Tue, 04 Feb 2025) EllapsedTime: 108.3 seconds RetCode: 0 Status: OK PackageFile: OrderedList_1.78.0.tar.gz PackageFileSize: 1.057 MiB