Package: OrderedList Version: 1.78.0 Command: /Library/Frameworks/R.framework/Resources/bin/R CMD INSTALL OrderedList StartedAt: 2025-02-03 15:14:56 -0500 (Mon, 03 Feb 2025) EndedAt: 2025-02-03 15:15:01 -0500 (Mon, 03 Feb 2025) EllapsedTime: 5.2 seconds RetCode: 0 Status: OK