Package: OrderedList Version: 1.78.0 Command: rm -rf OrderedList.buildbin-libdir && mkdir OrderedList.buildbin-libdir && /Users/biocbuild/BBS/utils/build-universal.sh OrderedList_1.78.0.tar.gz /Library/Frameworks/R.framework/Resources/bin/R OrderedList.buildbin-libdir StartedAt: 2025-02-04 13:42:15 -0500 (Tue, 04 Feb 2025) EndedAt: 2025-02-04 13:42:30 -0500 (Tue, 04 Feb 2025) EllapsedTime: 14.7 seconds RetCode: 0 Status: OK PackageFile: OrderedList_1.78.0.tgz PackageFileSize: 1.107 MiB