Package: OrderedList Version: 1.78.0 Command: rm -rf OrderedList.buildbin-libdir && mkdir OrderedList.buildbin-libdir && F:\biocbuild\bbs-3.20-bioc\R\bin\R.exe CMD INSTALL --build --library=OrderedList.buildbin-libdir OrderedList_1.78.0.tar.gz StartedAt: 2025-02-04 09:07:05 -0500 (Tue, 04 Feb 2025) EndedAt: 2025-02-04 09:07:30 -0500 (Tue, 04 Feb 2025) EllapsedTime: 24.7 seconds RetCode: 0 Status: OK PackageFile: OrderedList_1.78.0.zip PackageFileSize: 878.2 KiB