Package: OrderedList Version: 1.78.0 Command: F:\biocbuild\bbs-3.20-bioc\R\bin\R.exe CMD check --no-multiarch --install=check:OrderedList.install-out.txt --library=F:\biocbuild\bbs-3.20-bioc\R\library --no-vignettes --timings OrderedList_1.78.0.tar.gz StartedAt: 2025-02-04 04:36:57 -0500 (Tue, 04 Feb 2025) EndedAt: 2025-02-04 04:37:46 -0500 (Tue, 04 Feb 2025) EllapsedTime: 48.9 seconds RetCode: 0 Status: OK CheckDir: OrderedList.Rcheck Warnings: 0