Package: OrderedList Version: 1.78.0 Command: /home/biocbuild/R/R/bin/R CMD build --keep-empty-dirs --no-resave-data OrderedList StartedAt: 2025-02-04 01:38:04 -0000 (Tue, 04 Feb 2025) EndedAt: 2025-02-04 01:39:43 -0000 (Tue, 04 Feb 2025) EllapsedTime: 99.1 seconds RetCode: 0 Status: OK PackageFile: OrderedList_1.78.0.tar.gz PackageFileSize: 1.041 MiB