Package: Oscope Version: 1.36.0 Command: rm -rf Oscope.buildbin-libdir && mkdir Oscope.buildbin-libdir && /Users/biocbuild/BBS/utils/build-universal.sh Oscope_1.36.0.tar.gz /Library/Frameworks/R.framework/Resources/bin/R Oscope.buildbin-libdir StartedAt: 2024-11-20 04:41:30 -0500 (Wed, 20 Nov 2024) EndedAt: 2024-11-20 04:41:43 -0500 (Wed, 20 Nov 2024) EllapsedTime: 12.8 seconds RetCode: 0 Status: OK PackageFile: Oscope_1.36.0.tgz PackageFileSize: 850.1 KiB