Package: Oscope Version: 1.36.0 Command: /Library/Frameworks/R.framework/Resources/bin/R CMD build --keep-empty-dirs --no-resave-data Oscope StartedAt: 2025-02-03 21:03:39 -0500 (Mon, 03 Feb 2025) EndedAt: 2025-02-03 21:12:01 -0500 (Mon, 03 Feb 2025) EllapsedTime: 502.3 seconds RetCode: 0 Status: OK PackageFile: Oscope_1.36.0.tar.gz PackageFileSize: 1.16 MiB