Package: Oscope Version: 1.36.0 Command: /Library/Frameworks/R.framework/Resources/bin/R CMD check --install=check:Oscope.install-out.txt --library=/Library/Frameworks/R.framework/Resources/library --no-vignettes --timings Oscope_1.36.0.tar.gz StartedAt: 2025-02-04 07:37:00 -0500 (Tue, 04 Feb 2025) EndedAt: 2025-02-04 07:39:51 -0500 (Tue, 04 Feb 2025) EllapsedTime: 171.0 seconds RetCode: 0 Status: OK CheckDir: Oscope.Rcheck Warnings: 0