Package: Oscope Version: 1.36.0 Command: /home/biocbuild/R/R/bin/R CMD build --keep-empty-dirs --no-resave-data Oscope StartedAt: 2025-02-11 01:23:11 -0000 (Tue, 11 Feb 2025) EndedAt: 2025-02-11 01:23:12 -0000 (Tue, 11 Feb 2025) EllapsedTime: 1.0 seconds RetCode: 1 Status: ERROR PackageFile: None PackageFileSize: NA