Package: OutSplice Version: 1.6.0 Command: /Library/Frameworks/R.framework/Resources/bin/R CMD build --keep-empty-dirs --no-resave-data OutSplice StartedAt: 2025-02-04 05:10:31 -0500 (Tue, 04 Feb 2025) EndedAt: 2025-02-04 05:12:03 -0500 (Tue, 04 Feb 2025) EllapsedTime: 92.0 seconds RetCode: 0 Status: OK PackageFile: OutSplice_1.6.0.tar.gz PackageFileSize: 3.863 MiB