Package: OutSplice Version: 1.6.0 Command: /Library/Frameworks/R.framework/Resources/bin/R CMD build --keep-empty-dirs --no-resave-data OutSplice StartedAt: 2025-01-30 21:37:35 -0500 (Thu, 30 Jan 2025) EndedAt: 2025-01-30 21:42:09 -0500 (Thu, 30 Jan 2025) EllapsedTime: 274.4 seconds RetCode: 0 Status: OK PackageFile: OutSplice_1.6.0.tar.gz PackageFileSize: 3.862 MiB