Package: OutSplice Version: 1.6.0 Command: /Library/Frameworks/R.framework/Resources/bin/R CMD check --install=check:OutSplice.install-out.txt --library=/Library/Frameworks/R.framework/Resources/library --no-vignettes --timings OutSplice_1.6.0.tar.gz StartedAt: 2025-01-31 07:42:57 -0500 (Fri, 31 Jan 2025) EndedAt: 2025-01-31 07:55:00 -0500 (Fri, 31 Jan 2025) EllapsedTime: 723.1 seconds RetCode: 0 Status: OK CheckDir: OutSplice.Rcheck Warnings: 0