Package: OutSplice Version: 1.6.0 Command: /Library/Frameworks/R.framework/Resources/bin/R CMD INSTALL OutSplice StartedAt: 2025-01-30 15:43:20 -0500 (Thu, 30 Jan 2025) EndedAt: 2025-01-30 15:44:33 -0500 (Thu, 30 Jan 2025) EllapsedTime: 73.7 seconds RetCode: 0 Status: OK