Package: OutSplice Version: 1.6.0 Command: /home/biocbuild/bbs-3.20-bioc/R/bin/R CMD build --keep-empty-dirs --no-resave-data --md5 OutSplice StartedAt: 2025-02-03 18:37:15 -0500 (Mon, 03 Feb 2025) EndedAt: 2025-02-03 18:39:34 -0500 (Mon, 03 Feb 2025) EllapsedTime: 138.3 seconds RetCode: 0 Status: OK PackageFile: OutSplice_1.6.0.tar.gz PackageFileSize: 3.865 MiB