Package: OutSplice Version: 1.6.0 Command: /home/biocbuild/bbs-3.20-bioc/R/bin/R CMD check --install=check:OutSplice.install-out.txt --library=/home/biocbuild/bbs-3.20-bioc/R/site-library --timings OutSplice_1.6.0.tar.gz StartedAt: 2025-01-31 00:46:48 -0500 (Fri, 31 Jan 2025) EndedAt: 2025-01-31 00:55:53 -0500 (Fri, 31 Jan 2025) EllapsedTime: 544.9 seconds RetCode: 0 Status: OK CheckDir: OutSplice.Rcheck Warnings: 0