Package: PAA Version: 1.40.0 Command: /Library/Frameworks/R.framework/Resources/bin/R CMD INSTALL PAA StartedAt: 2025-02-10 17:39:35 -0500 (Mon, 10 Feb 2025) EndedAt: 2025-02-10 17:40:15 -0500 (Mon, 10 Feb 2025) EllapsedTime: 40.8 seconds RetCode: 0 Status: OK