Package: PAA Version: 1.40.0 Command: rm -rf PAA.buildbin-libdir && mkdir PAA.buildbin-libdir && /Users/biocbuild/BBS/utils/build-universal.sh PAA_1.40.0.tar.gz /Library/Frameworks/R.framework/Resources/bin/R PAA.buildbin-libdir StartedAt: 2025-02-04 13:43:13 -0500 (Tue, 04 Feb 2025) EndedAt: 2025-02-04 13:45:43 -0500 (Tue, 04 Feb 2025) EllapsedTime: 149.4 seconds RetCode: 0 Status: OK PackageFile: PAA_1.40.0.tgz PackageFileSize: 3.985 MiB