Package: PAA Version: 1.40.0 Command: F:\biocbuild\bbs-3.20-bioc\R\bin\R.exe CMD INSTALL PAA StartedAt: 2025-02-03 16:13:17 -0500 (Mon, 03 Feb 2025) EndedAt: 2025-02-03 16:14:13 -0500 (Mon, 03 Feb 2025) EllapsedTime: 55.5 seconds RetCode: 0 Status: OK