Package: PAA Version: 1.40.0 Command: /home/biocbuild/R/R/bin/R CMD build --keep-empty-dirs --no-resave-data PAA StartedAt: 2025-02-04 01:41:37 -0000 (Tue, 04 Feb 2025) EndedAt: 2025-02-04 01:44:27 -0000 (Tue, 04 Feb 2025) EllapsedTime: 170.2 seconds RetCode: 0 Status: OK PackageFile: PAA_1.40.0.tar.gz PackageFileSize: 3.973 MiB