Package: PADOG Version: 1.48.0 Command: /Library/Frameworks/R.framework/Resources/bin/R CMD build --keep-empty-dirs --no-resave-data PADOG StartedAt: 2025-02-04 05:12:14 -0500 (Tue, 04 Feb 2025) EndedAt: 2025-02-04 05:15:09 -0500 (Tue, 04 Feb 2025) EllapsedTime: 175.2 seconds RetCode: 0 Status: OK PackageFile: PADOG_1.48.0.tar.gz PackageFileSize: 369.3 KiB