Package: PADOG Version: 1.48.0 Command: /Library/Frameworks/R.framework/Resources/bin/R CMD INSTALL PADOG StartedAt: 2025-02-03 16:14:45 -0500 (Mon, 03 Feb 2025) EndedAt: 2025-02-03 16:15:02 -0500 (Mon, 03 Feb 2025) EllapsedTime: 16.4 seconds RetCode: 0 Status: OK